BEGIN:VCALENDAR
VERSION:2.0
PRODID:-//eventon.com NONSGML v1.0//EN
CALSCALE:GREGORIAN
METHOD:PUBLISH
BEGIN:VEVENT
UID:69eac18498f24
DTSTAMP:20260424T010404Z
DTSTART:20260828T080000Z
DTEND:20260828T180100Z
LOCATION:
SUMMARY:Apresentação de Contas consolidadas referentes ao 1.º Semestre de 2026
DESCRIPTION:Apresentação de Contas consolidadas referentes ao 1.º Semest
 re de 2026\nhttps://www.teixeiraduarte.pt/events/apresentacao-de-contas-con
 solidadas-referentes-ao-1-o-semestre-de-2026/
URL:https://www.teixeiraduarte.pt/events/apresentacao-de-contas-consolidadas-referentes-ao-1-o-semestre-de-2026/
END:VEVENT
END:VCALENDAR