BEGIN:VCALENDAR
VERSION:2.0
PRODID:-//eventon.com NONSGML v1.0//EN
CALSCALE:GREGORIAN
METHOD:PUBLISH
BEGIN:VEVENT
UID:69eac13959b8e
DTSTAMP:20260424T010249Z
DTSTART:20260430T160000Z
DTEND:20260430T180100Z
LOCATION:
SUMMARY:Relatório e Contas relativo ao exercício de 2025
DESCRIPTION:Relatório e Contas relativo ao exercício de 2025\nhttps://www
 .teixeiraduarte.pt/events/relatorio-e-contas-relativo-ao-exercicio-de-2025/
URL:https://www.teixeiraduarte.pt/events/relatorio-e-contas-relativo-ao-exercicio-de-2025/
END:VEVENT
END:VCALENDAR