BEGIN:VCALENDAR
VERSION:2.0
PRODID:-//eventon.com NONSGML v1.0//EN
CALSCALE:GREGORIAN
METHOD:PUBLISH
BEGIN:VEVENT
UID:69eac14b4bd28
DTSTAMP:20260424T010307Z
DTSTART:20250822T080000Z
DTEND:20250822T180100Z
LOCATION:
SUMMARY:Apresentação de Contas consolidadas referentes ao 1.º Semestre de 2025
DESCRIPTION:Apresentação de Contas consolidadas referentes ao 1.º Semest
 re de 2025\nhttps://www.teixeiraduarte.pt/events/apresentacao-de-contas-con
 solidadas-referentes-ao-1-o-semestre-de-2025/
URL:https://www.teixeiraduarte.pt/events/apresentacao-de-contas-consolidadas-referentes-ao-1-o-semestre-de-2025/
END:VEVENT
END:VCALENDAR