BEGIN:VCALENDAR
VERSION:2.0
PRODID:-//eventon.com NONSGML v1.0//EN
CALSCALE:GREGORIAN
METHOD:PUBLISH
BEGIN:VEVENT
UID:69ead44c18a5e
DTSTAMP:20260424T022412Z
DTSTART:20240430T160000Z
DTEND:20240430T180100Z
LOCATION:
SUMMARY:Relatório e Contas relativo ao exercício de 2023\,  a aprovar em Assembleia Geral
DESCRIPTION:Relatório e Contas relativo ao exercício de 2023\,  a aprovar
  em Assembleia Geral\nhttps://www.teixeiraduarte.pt/events/relatorio-e-cont
 as-relativo-ao-exercicio-de-2023-a-aprovar-em-assembleia-geral/
URL:https://www.teixeiraduarte.pt/events/relatorio-e-contas-relativo-ao-exercicio-de-2023-a-aprovar-em-assembleia-geral/
END:VEVENT
END:VCALENDAR