BEGIN:VCALENDAR
VERSION:2.0
PRODID:-//eventon.com NONSGML v1.0//EN
CALSCALE:GREGORIAN
METHOD:PUBLISH
BEGIN:VEVENT
UID:69ead43ea5945
DTSTAMP:20260424T022358Z
DTSTART:20240522T160000Z
DTEND:20240522T180100Z
LOCATION:
SUMMARY:Assembleia Geral da Teixeira Duarte\,  S.A.
DESCRIPTION:Assembleia Geral da Teixeira Duarte\,  S.A.\nhttps://www.teixei
 raduarte.pt/events/assembleia-geral-da-teixeira-duarte-s-a-7/
URL:https://www.teixeiraduarte.pt/events/assembleia-geral-da-teixeira-duarte-s-a-7/
END:VEVENT
END:VCALENDAR