BEGIN:VCALENDAR
VERSION:2.0
PRODID:-//eventon.com NONSGML v1.0//EN
CALSCALE:GREGORIAN
METHOD:PUBLISH
BEGIN:VEVENT
UID:69ead4fef0bd8
DTSTAMP:20260424T022710Z
DTSTART:20230908T160000Z
DTEND:20230908T180100Z
LOCATION:
SUMMARY:Apresentação de Contas consolidadas referentes ao 1.º Semestre de 2023
DESCRIPTION:Apresentação de Contas consolidadas referentes ao 1.º Semest
 re de 2023\nhttps://www.teixeiraduarte.pt/events/apresentacao-de-contas-con
 solidadas-referentes-ao-1o-semestre-de-2023/
URL:https://www.teixeiraduarte.pt/events/apresentacao-de-contas-consolidadas-referentes-ao-1o-semestre-de-2023/
END:VEVENT
END:VCALENDAR