BEGIN:VCALENDAR
VERSION:2.0
PRODID:-//eventon.com NONSGML v1.0//EN
CALSCALE:GREGORIAN
METHOD:PUBLISH
BEGIN:VEVENT
UID:69ead5216a28b
DTSTAMP:20260424T022745Z
DTSTART:20230524T160000Z
DTEND:20230524T180100Z
LOCATION:
SUMMARY:Assembleia Geral da Teixeira Duarte\,  S.A.
DESCRIPTION:Assembleia Geral da Teixeira Duarte\,  S.A.\nhttps://www.teixei
 raduarte.pt/events/assembleia-geral-da-teixeira-duarte-s-a-6/
URL:https://www.teixeiraduarte.pt/events/assembleia-geral-da-teixeira-duarte-s-a-6/
END:VEVENT
END:VCALENDAR