BEGIN:VCALENDAR
VERSION:2.0
PRODID:-//eventon.com NONSGML v1.0//EN
CALSCALE:GREGORIAN
METHOD:PUBLISH
BEGIN:VEVENT
UID:69eac09bd8c0b
DTSTAMP:20260424T010011Z
DTSTART:20230427T160000Z
DTEND:20230427T180100Z
LOCATION:
SUMMARY:Relatório e Contas relativo ao exercício de 2022\,  a aprovar em Assembleia Geral
DESCRIPTION:Relatório e Contas relativo ao exercício de 2022\,  a aprovar
  em Assembleia Geral\nhttps://www.teixeiraduarte.pt/events/relatorio-e-cont
 as-relativo-ao-exercicio-de-2022-a-aprovar-em-assembleia-geral/
URL:https://www.teixeiraduarte.pt/events/relatorio-e-contas-relativo-ao-exercicio-de-2022-a-aprovar-em-assembleia-geral/
END:VEVENT
END:VCALENDAR