BEGIN:VCALENDAR
VERSION:2.0
PRODID:-//eventon.com NONSGML v1.0//EN
CALSCALE:GREGORIAN
METHOD:PUBLISH
BEGIN:VEVENT
UID:69eac18db1104
DTSTAMP:20260424T010413Z
DTSTART:20220728
DTEND:20220729
LOCATION:
SUMMARY:Apresentação de Contas consolidadas referentes ao 1.º Semestre de 2022
DESCRIPTION:Apresentação de Contas consolidadas referentes ao 1.º Semest
 re de 2022\nhttps://www.teixeiraduarte.pt/events/apresentacao-de-contas-con
 solidadas-referentes-ao-1-o-semestre-de-2022/
URL:https://www.teixeiraduarte.pt/events/apresentacao-de-contas-consolidadas-referentes-ao-1-o-semestre-de-2022/
END:VEVENT
END:VCALENDAR