BEGIN:VCALENDAR
VERSION:2.0
PRODID:-//eventon.com NONSGML v1.0//EN
CALSCALE:GREGORIAN
METHOD:PUBLISH
BEGIN:VEVENT
UID:69ead4fbe639f
DTSTAMP:20260424T022707Z
DTSTART:20220523
DTEND:20220524
LOCATION:
SUMMARY:Assembleia Geral da Teixeira Duarte\,  S.A.
DESCRIPTION:Assembleia Geral da Teixeira Duarte\,  S.A.\nhttps://www.teixei
 raduarte.pt/events/assembleia-geral-da-teixeira-duarte-s-a-2022/
URL:https://www.teixeiraduarte.pt/events/assembleia-geral-da-teixeira-duarte-s-a-2022/
END:VEVENT
END:VCALENDAR