BEGIN:VCALENDAR
VERSION:2.0
PRODID:-//eventon.com NONSGML v1.0//EN
CALSCALE:GREGORIAN
METHOD:PUBLISH
BEGIN:VEVENT
UID:69eac18be0c1c
DTSTAMP:20260424T010411Z
DTSTART:20220429
DTEND:20220430
LOCATION:
SUMMARY:Relatório e Contas relativo ao exercício de 2021\,  a aprovar em Assembleia Geral
DESCRIPTION:Relatório e Contas relativo ao exercício de 2021\,  a aprovar
  em Assembleia Geral\nhttps://www.teixeiraduarte.pt/events/relatorio-e-cont
 as-relativo-ao-exercicio-de-2021-a-aprovar-em-assembleia-geral/
URL:https://www.teixeiraduarte.pt/events/relatorio-e-contas-relativo-ao-exercicio-de-2021-a-aprovar-em-assembleia-geral/
END:VEVENT
END:VCALENDAR