BEGIN:VCALENDAR
VERSION:2.0
PRODID:-//eventon.com NONSGML v1.0//EN
CALSCALE:GREGORIAN
METHOD:PUBLISH
BEGIN:VEVENT
UID:69ead51fe5216
DTSTAMP:20260424T022743Z
DTSTART:20210429
DTEND:20210430
LOCATION:
SUMMARY:Relatório e Contas relativo ao exercício de 2020\,  a aprovar em Assembleia Geral
DESCRIPTION:Relatório e Contas relativo ao exercício de 2020\,  a aprovar
  em Assembleia Geral\nhttps://www.teixeiraduarte.pt/events/relatorio-e-cont
 as-relativo-ao-exercicio-de-2020-a-aprovar-em-assembleia-geral/
URL:https://www.teixeiraduarte.pt/events/relatorio-e-contas-relativo-ao-exercicio-de-2020-a-aprovar-em-assembleia-geral/
END:VEVENT
END:VCALENDAR