BEGIN:VCALENDAR
VERSION:2.0
PRODID:-//eventon.com NONSGML v1.0//EN
CALSCALE:GREGORIAN
METHOD:PUBLISH
BEGIN:VEVENT
UID:69eac09c35d51
DTSTAMP:20260424T010012Z
DTSTART:20110331
DTEND:20110401
LOCATION:
SUMMARY:Divulgação de Resultados referentes ao Exercício de 2010
DESCRIPTION:Divulgação de Resultados referentes ao Exercício de 2010\nht
 tps://www.teixeiraduarte.pt/events/divulgacao-de-resultados-referentes-ao-e
 xercicio-de-2010/
URL:https://www.teixeiraduarte.pt/events/divulgacao-de-resultados-referentes-ao-exercicio-de-2010/
END:VEVENT
END:VCALENDAR