BEGIN:VCALENDAR
VERSION:2.0
PRODID:-//eventon.com NONSGML v1.0//EN
CALSCALE:GREGORIAN
METHOD:PUBLISH
BEGIN:VEVENT
UID:69ead51565032
DTSTAMP:20260424T022733Z
DTSTART:20110429
DTEND:20110430
LOCATION:
SUMMARY:Relatório e Contas Relativo ao exercício de 2010\,  a aprovar em Assembleia Geral Anual de 20 de Maio de 2011
DESCRIPTION:Relatório e Contas Relativo ao exercício de 2010\,  a aprovar
  em Assembleia Geral Anual de 20 de Maio de 2011\nhttps://www.teixeiraduart
 e.pt/events/relatorio-e-contas-relativo-ao-exercicio-de-2010-a-aprovar-em-a
 ssembleia-geral-anual-de-20-de-maio-de-2011/
URL:https://www.teixeiraduarte.pt/events/relatorio-e-contas-relativo-ao-exercicio-de-2010-a-aprovar-em-assembleia-geral-anual-de-20-de-maio-de-2011/
END:VEVENT
END:VCALENDAR