BEGIN:VCALENDAR
VERSION:2.0
PRODID:-//eventon.com NONSGML v1.0//EN
CALSCALE:GREGORIAN
METHOD:PUBLISH
BEGIN:VEVENT
UID:69ead49beaf83
DTSTAMP:20260424T022531Z
DTSTART:20110520
DTEND:20110521
LOCATION:
SUMMARY:Assembleia Geral Anual
DESCRIPTION:Assembleia Geral Anual\nhttps://www.teixeiraduarte.pt/events/as
 sembleia-geral-anual-2/
URL:https://www.teixeiraduarte.pt/events/assembleia-geral-anual-2/
END:VEVENT
END:VCALENDAR