BEGIN:VCALENDAR
VERSION:2.0
PRODID:-//eventon.com NONSGML v1.0//EN
CALSCALE:GREGORIAN
METHOD:PUBLISH
BEGIN:VEVENT
UID:69ead492c0153
DTSTAMP:20260424T022522Z
DTSTART:20110526
DTEND:20110527
LOCATION:
SUMMARY:Apresentação de Contas consolidadas referentes ao 1.º Trimestre de 2011
DESCRIPTION:Apresentação de Contas consolidadas referentes ao 1.º Trimes
 tre de 2011\nhttps://www.teixeiraduarte.pt/events/apresentacao-de-contas-co
 nsolidadas-referentes-ao-1-o-trimestre-de-2011/
URL:https://www.teixeiraduarte.pt/events/apresentacao-de-contas-consolidadas-referentes-ao-1-o-trimestre-de-2011/
END:VEVENT
END:VCALENDAR