BEGIN:VCALENDAR
VERSION:2.0
PRODID:-//eventon.com NONSGML v1.0//EN
CALSCALE:GREGORIAN
METHOD:PUBLISH
BEGIN:VEVENT
UID:69ead42c1ee55
DTSTAMP:20260424T022340Z
DTSTART:20110830
DTEND:20110831
LOCATION:
SUMMARY:Apresentação de Contas referentes ao 1.º Semestre de 2011
DESCRIPTION:Apresentação de Contas referentes ao 1.º Semestre de 2011\nh
 ttps://www.teixeiraduarte.pt/events/apresentacao-de-contas-referentes-ao-1-
 o-semestre-de-2011/
URL:https://www.teixeiraduarte.pt/events/apresentacao-de-contas-referentes-ao-1-o-semestre-de-2011/
END:VEVENT
END:VCALENDAR