BEGIN:VCALENDAR
VERSION:2.0
PRODID:-//eventon.com NONSGML v1.0//EN
CALSCALE:GREGORIAN
METHOD:PUBLISH
BEGIN:VEVENT
UID:69ead4b0609b1
DTSTAMP:20260424T022552Z
DTSTART:20120413
DTEND:20120414
LOCATION:
SUMMARY:Divulgação de Resultados referentes ao Exercício de 2011
DESCRIPTION:Divulgação de Resultados referentes ao Exercício de 2011\nht
 tps://www.teixeiraduarte.pt/events/divulgacao-de-resultados-referentes-ao-e
 xercicio-de-2011/
URL:https://www.teixeiraduarte.pt/events/divulgacao-de-resultados-referentes-ao-exercicio-de-2011/
END:VEVENT
END:VCALENDAR