BEGIN:VCALENDAR
VERSION:2.0
PRODID:-//eventon.com NONSGML v1.0//EN
CALSCALE:GREGORIAN
METHOD:PUBLISH
BEGIN:VEVENT
UID:69eac0d39739d
DTSTAMP:20260424T010107Z
DTSTART:20120427
DTEND:20120428
LOCATION:
SUMMARY:Relatório e Contas relativo ao exercício de 2011\,  a aprovar em Assembleia Geral Anual de 17 de Maio de 2012
DESCRIPTION:Relatório e Contas relativo ao exercício de 2011\,  a aprovar
  em Assembleia Geral Anual de 17 de Maio de 2012\nhttps://www.teixeiraduart
 e.pt/events/relatorio-e-contas-relativo-ao-exercicio-de-2011-a-aprovar-em-a
 ssembleia-geral-anual-de-17-de-maio-de-2012/
URL:https://www.teixeiraduarte.pt/events/relatorio-e-contas-relativo-ao-exercicio-de-2011-a-aprovar-em-assembleia-geral-anual-de-17-de-maio-de-2012/
END:VEVENT
END:VCALENDAR