BEGIN:VCALENDAR
VERSION:2.0
PRODID:-//eventon.com NONSGML v1.0//EN
CALSCALE:GREGORIAN
METHOD:PUBLISH
BEGIN:VEVENT
UID:69ead4b08cde3
DTSTAMP:20260424T022552Z
DTSTART:20120517
DTEND:20120518
LOCATION:
SUMMARY:Assembleia Geral Anual
DESCRIPTION:Assembleia Geral Anual\nhttps://www.teixeiraduarte.pt/events/as
 sembleia-geral-anual/
URL:https://www.teixeiraduarte.pt/events/assembleia-geral-anual/
END:VEVENT
END:VCALENDAR