BEGIN:VCALENDAR
VERSION:2.0
PRODID:-//eventon.com NONSGML v1.0//EN
CALSCALE:GREGORIAN
METHOD:PUBLISH
BEGIN:VEVENT
UID:69eac117ee94d
DTSTAMP:20260424T010215Z
DTSTART:20120524
DTEND:20120525
LOCATION:
SUMMARY:Apresentação de contas consolidadas referentes ao 1.º Trimestre de 2012
DESCRIPTION:Apresentação de contas consolidadas referentes ao 1.º Trimes
 tre de 2012\nhttps://www.teixeiraduarte.pt/events/apresentacao-de-contas-co
 nsolidadas-referentes-ao-1-o-trimestre-de-2012/
URL:https://www.teixeiraduarte.pt/events/apresentacao-de-contas-consolidadas-referentes-ao-1-o-trimestre-de-2012/
END:VEVENT
END:VCALENDAR