BEGIN:VCALENDAR
VERSION:2.0
PRODID:-//eventon.com NONSGML v1.0//EN
CALSCALE:GREGORIAN
METHOD:PUBLISH
BEGIN:VEVENT
UID:69eac0aebbb91
DTSTAMP:20260424T010030Z
DTSTART:20120831
DTEND:20120901
LOCATION:
SUMMARY:Apresentação de contas referentes ao 1.º Semestre de 2012
DESCRIPTION:Apresentação de contas referentes ao 1.º Semestre de 2012\nh
 ttps://www.teixeiraduarte.pt/events/apresentacao-de-contas-referentes-ao-1-
 o-semestre-de-2012/
URL:https://www.teixeiraduarte.pt/events/apresentacao-de-contas-referentes-ao-1-o-semestre-de-2012/
END:VEVENT
END:VCALENDAR