BEGIN:VCALENDAR
VERSION:2.0
PRODID:-//eventon.com NONSGML v1.0//EN
CALSCALE:GREGORIAN
METHOD:PUBLISH
BEGIN:VEVENT
UID:69eac114e06e3
DTSTAMP:20260424T010212Z
DTSTART:20121019
DTEND:20121020
LOCATION:
SUMMARY:Assembleia Geral Extraordinária
DESCRIPTION:Assembleia Geral Extraordinária\nhttps://www.teixeiraduarte.pt
 /events/assembleia-geral-extraordinaria/
URL:https://www.teixeiraduarte.pt/events/assembleia-geral-extraordinaria/
END:VEVENT
END:VCALENDAR