BEGIN:VCALENDAR
VERSION:2.0
PRODID:-//eventon.com NONSGML v1.0//EN
CALSCALE:GREGORIAN
METHOD:PUBLISH
BEGIN:VEVENT
UID:69eac096713da
DTSTAMP:20260424T010006Z
DTSTART:20130328
DTEND:20130329
LOCATION:
SUMMARY:Divulgação de Resultados referentes ao Exercício de 2012
DESCRIPTION:Divulgação de Resultados referentes ao Exercício de 2012\nht
 tps://www.teixeiraduarte.pt/events/divulgacao-de-resultados-referentes-ao-e
 xercicio-de-2012/
URL:https://www.teixeiraduarte.pt/events/divulgacao-de-resultados-referentes-ao-exercicio-de-2012/
END:VEVENT
END:VCALENDAR