BEGIN:VCALENDAR
VERSION:2.0
PRODID:-//eventon.com NONSGML v1.0//EN
CALSCALE:GREGORIAN
METHOD:PUBLISH
BEGIN:VEVENT
UID:69ead3c6df6ac
DTSTAMP:20260424T022158Z
DTSTART:20130430
DTEND:20130501
LOCATION:
SUMMARY:Relatório e Contas Relativo ao exercício de 2012\,  a aprovar em Assembleia Geral de 25 de Maio de 2013
DESCRIPTION:Relatório e Contas Relativo ao exercício de 2012\,  a aprovar
  em Assembleia Geral de 25 de Maio de 2013\nhttps://www.teixeiraduarte.pt/e
 vents/relatorio-e-contas-relativo-ao-exercicio-de-2012-a-aprovar-em-assembl
 eia-geral-de-25-de-maio-de-2013/
URL:https://www.teixeiraduarte.pt/events/relatorio-e-contas-relativo-ao-exercicio-de-2012-a-aprovar-em-assembleia-geral-de-25-de-maio-de-2013/
END:VEVENT
END:VCALENDAR