BEGIN:VCALENDAR
VERSION:2.0
PRODID:-//eventon.com NONSGML v1.0//EN
CALSCALE:GREGORIAN
METHOD:PUBLISH
BEGIN:VEVENT
UID:69ead49c16810
DTSTAMP:20260424T022532Z
DTSTART:20130525
DTEND:20130526
LOCATION:
SUMMARY:Assembleia Geral
DESCRIPTION:Assembleia Geral\nhttps://www.teixeiraduarte.pt/events/assemble
 ia-geral/
URL:https://www.teixeiraduarte.pt/events/assembleia-geral/
END:VEVENT
END:VCALENDAR