BEGIN:VCALENDAR
VERSION:2.0
PRODID:-//eventon.com NONSGML v1.0//EN
CALSCALE:GREGORIAN
METHOD:PUBLISH
BEGIN:VEVENT
UID:69eac0db6c9d4
DTSTAMP:20260424T010115Z
DTSTART:20130531
DTEND:20130601
LOCATION:
SUMMARY:Apresentação de contas consolidadas referentes ao 1.º Trimestre de 2013
DESCRIPTION:Apresentação de contas consolidadas referentes ao 1.º Trimes
 tre de 2013\nhttps://www.teixeiraduarte.pt/events/apresentacao-de-contas-co
 nsolidadas-referentes-ao-1-o-trimestre-de-2013/
URL:https://www.teixeiraduarte.pt/events/apresentacao-de-contas-consolidadas-referentes-ao-1-o-trimestre-de-2013/
END:VEVENT
END:VCALENDAR