BEGIN:VCALENDAR
VERSION:2.0
PRODID:-//eventon.com NONSGML v1.0//EN
CALSCALE:GREGORIAN
METHOD:PUBLISH
BEGIN:VEVENT
UID:69eac13592e1a
DTSTAMP:20260424T010245Z
DTSTART:20130830
DTEND:20130831
LOCATION:
SUMMARY:Apresentação de Contas referentes ao 1.º Semestre de 2013
DESCRIPTION:Apresentação de Contas referentes ao 1.º Semestre de 2013\nh
 ttps://www.teixeiraduarte.pt/events/apresentacao-de-contas-referentes-ao-1-
 o-semestre-de-2013/
URL:https://www.teixeiraduarte.pt/events/apresentacao-de-contas-referentes-ao-1-o-semestre-de-2013/
END:VEVENT
END:VCALENDAR