BEGIN:VCALENDAR
VERSION:2.0
PRODID:-//eventon.com NONSGML v1.0//EN
CALSCALE:GREGORIAN
METHOD:PUBLISH
BEGIN:VEVENT
UID:69eac0d7dd192
DTSTAMP:20260424T010111Z
DTSTART:20140417
DTEND:20140418
LOCATION:
SUMMARY:Divulgação de Resultados referentes ao Exercício de 2013
DESCRIPTION:Divulgação de Resultados referentes ao Exercício de 2013\nht
 tps://www.teixeiraduarte.pt/events/divulgacao-de-resultados-referentes-ao-e
 xercicio-de-2013/
URL:https://www.teixeiraduarte.pt/events/divulgacao-de-resultados-referentes-ao-exercicio-de-2013/
END:VEVENT
END:VCALENDAR