BEGIN:VCALENDAR
VERSION:2.0
PRODID:-//eventon.com NONSGML v1.0//EN
CALSCALE:GREGORIAN
METHOD:PUBLISH
BEGIN:VEVENT
UID:69ead44eb299c
DTSTAMP:20260424T022414Z
DTSTART:20140430
DTEND:20140501
LOCATION:
SUMMARY:Relatório e Contas Relativo ao exercício de 2013\,  a aprovar em Assembleia Geral de 31 de Maio de 2014
DESCRIPTION:Relatório e Contas Relativo ao exercício de 2013\,  a aprovar
  em Assembleia Geral de 31 de Maio de 2014\nhttps://www.teixeiraduarte.pt/e
 vents/relatorio-e-contas-relativo-ao-exercicio-de-2013-a-aprovar-em-assembl
 eia-geral-de-31-de-maio-de-2014/
URL:https://www.teixeiraduarte.pt/events/relatorio-e-contas-relativo-ao-exercicio-de-2013-a-aprovar-em-assembleia-geral-de-31-de-maio-de-2014/
END:VEVENT
END:VCALENDAR