BEGIN:VCALENDAR
VERSION:2.0
PRODID:-//eventon.com NONSGML v1.0//EN
CALSCALE:GREGORIAN
METHOD:PUBLISH
BEGIN:VEVENT
UID:69eac145880a1
DTSTAMP:20260424T010301Z
DTSTART:20140530
DTEND:20140531
LOCATION:
SUMMARY:Apresentação de Contas consolidadas referentes ao 1.º Trimestre de 2014
DESCRIPTION:Apresentação de Contas consolidadas referentes ao 1.º Trimes
 tre de 2014\nhttps://www.teixeiraduarte.pt/events/apresentacao-de-contas-co
 nsolidadas-referentes-ao-1-o-trimestre-de-2014/
URL:https://www.teixeiraduarte.pt/events/apresentacao-de-contas-consolidadas-referentes-ao-1-o-trimestre-de-2014/
END:VEVENT
END:VCALENDAR