BEGIN:VCALENDAR
VERSION:2.0
PRODID:-//eventon.com NONSGML v1.0//EN
CALSCALE:GREGORIAN
METHOD:PUBLISH
BEGIN:VEVENT
UID:69ead3f286fd2
DTSTAMP:20260424T022242Z
DTSTART:20140531
DTEND:20140601
LOCATION:
SUMMARY:Assembleia Geral da “Teixeira Duarte\,  S.A.”
DESCRIPTION:Assembleia Geral da “Teixeira Duarte\,  S.A.”\nhttps://www.
 teixeiraduarte.pt/events/assembleia-geral-da-teixeira-duarte-s-a-4/
URL:https://www.teixeiraduarte.pt/events/assembleia-geral-da-teixeira-duarte-s-a-4/
END:VEVENT
END:VCALENDAR