BEGIN:VCALENDAR
VERSION:2.0
PRODID:-//eventon.com NONSGML v1.0//EN
CALSCALE:GREGORIAN
METHOD:PUBLISH
BEGIN:VEVENT
UID:69ead42c83a8a
DTSTAMP:20260424T022340Z
DTSTART:20140829
DTEND:20140830
LOCATION:
SUMMARY:Apresentação de Contas consolidadas referentes ao 1.º Semestre de 2014
DESCRIPTION:Apresentação de Contas consolidadas referentes ao 1.º Semest
 re de 2014\nhttps://www.teixeiraduarte.pt/events/apresentacao-de-contas-con
 solidadas-referentes-ao-1-o-semestre-de-2014/
URL:https://www.teixeiraduarte.pt/events/apresentacao-de-contas-consolidadas-referentes-ao-1-o-semestre-de-2014/
END:VEVENT
END:VCALENDAR