BEGIN:VCALENDAR
VERSION:2.0
PRODID:-//eventon.com NONSGML v1.0//EN
CALSCALE:GREGORIAN
METHOD:PUBLISH
BEGIN:VEVENT
UID:69eac099b417a
DTSTAMP:20260424T010009Z
DTSTART:20141128
DTEND:20141129
LOCATION:
SUMMARY:Apresentação de Contas consolidadas referentes ao 3.º Trimestre de 2014
DESCRIPTION:Apresentação de Contas consolidadas referentes ao 3.º Trimes
 tre de 2014\nhttps://www.teixeiraduarte.pt/events/apresentacao-de-contas-co
 nsolidadas-referentes-ao-3-o-trimestre-de-2014/
URL:https://www.teixeiraduarte.pt/events/apresentacao-de-contas-consolidadas-referentes-ao-3-o-trimestre-de-2014/
END:VEVENT
END:VCALENDAR