BEGIN:VCALENDAR
VERSION:2.0
PRODID:-//eventon.com NONSGML v1.0//EN
CALSCALE:GREGORIAN
METHOD:PUBLISH
BEGIN:VEVENT
UID:69eac0aad899b
DTSTAMP:20260424T010026Z
DTSTART:20150416
DTEND:20150417
LOCATION:
SUMMARY:Divulgação de Resultados referentes ao exercício de 2014
DESCRIPTION:Divulgação de Resultados referentes ao exercício de 2014\nht
 tps://www.teixeiraduarte.pt/events/divulgacao-de-resultados-referentes-ao-e
 xercicio-de-2014/
URL:https://www.teixeiraduarte.pt/events/divulgacao-de-resultados-referentes-ao-exercicio-de-2014/
END:VEVENT
END:VCALENDAR