BEGIN:VCALENDAR
VERSION:2.0
PRODID:-//eventon.com NONSGML v1.0//EN
CALSCALE:GREGORIAN
METHOD:PUBLISH
BEGIN:VEVENT
UID:69eac0b08de8b
DTSTAMP:20260424T010032Z
DTSTART:20150530
DTEND:20150531
LOCATION:
SUMMARY:Assembleia Geral da “Teixeira Duarte\,  S.A.”
DESCRIPTION:Assembleia Geral da “Teixeira Duarte\,  S.A.”\nhttps://www.
 teixeiraduarte.pt/events/assembleia-geral-da-teixeira-duarte-s-a-3/
URL:https://www.teixeiraduarte.pt/events/assembleia-geral-da-teixeira-duarte-s-a-3/
END:VEVENT
END:VCALENDAR