BEGIN:VCALENDAR
VERSION:2.0
PRODID:-//eventon.com NONSGML v1.0//EN
CALSCALE:GREGORIAN
METHOD:PUBLISH
BEGIN:VEVENT
UID:69eac099993df
DTSTAMP:20260424T010009Z
DTSTART:20150828
DTEND:20150829
LOCATION:
SUMMARY:Apresentação de Contas consolidadas referentes ao 1º Semestre de 2015
DESCRIPTION:Apresentação de Contas consolidadas referentes ao 1º Semestr
 e de 2015\nhttps://www.teixeiraduarte.pt/events/apresentacao-de-contas-cons
 olidadas-referentes-ao-1o-semestre-de-2015/
URL:https://www.teixeiraduarte.pt/events/apresentacao-de-contas-consolidadas-referentes-ao-1o-semestre-de-2015/
END:VEVENT
END:VCALENDAR