BEGIN:VCALENDAR
VERSION:2.0
PRODID:-//eventon.com NONSGML v1.0//EN
CALSCALE:GREGORIAN
METHOD:PUBLISH
BEGIN:VEVENT
UID:69eac096ead1c
DTSTAMP:20260424T010006Z
DTSTART:20151127
DTEND:20151128
LOCATION:
SUMMARY:Apresentação de Contas consolidadas referentes ao 3º Trimestre de 2015
DESCRIPTION:Apresentação de Contas consolidadas referentes ao 3º Trimest
 re de 2015\nhttps://www.teixeiraduarte.pt/events/apresentacao-de-contas-con
 solidadas-referentes-ao-3o-trimestre-de-2015/
URL:https://www.teixeiraduarte.pt/events/apresentacao-de-contas-consolidadas-referentes-ao-3o-trimestre-de-2015/
END:VEVENT
END:VCALENDAR