BEGIN:VCALENDAR
VERSION:2.0
PRODID:-//eventon.com NONSGML v1.0//EN
CALSCALE:GREGORIAN
METHOD:PUBLISH
BEGIN:VEVENT
UID:69ead4fc06335
DTSTAMP:20260424T022708Z
DTSTART:20160429
DTEND:20160430
LOCATION:
SUMMARY:Relatório e Contas relativo ao exercício de 2015\,  a aprovar em Assembleia Geral de 28 de Maio de 2016
DESCRIPTION:Relatório e Contas relativo ao exercício de 2015\,  a aprovar
  em Assembleia Geral de 28 de Maio de 2016\nhttps://www.teixeiraduarte.pt/e
 vents/relatorio-e-contas-relativo-ao-exercicio-de-2015-a-aprovar-em-assembl
 eia-geral-de-28-de-maio-de-2016/
URL:https://www.teixeiraduarte.pt/events/relatorio-e-contas-relativo-ao-exercicio-de-2015-a-aprovar-em-assembleia-geral-de-28-de-maio-de-2016/
END:VEVENT
END:VCALENDAR