BEGIN:VCALENDAR
VERSION:2.0
PRODID:-//eventon.com NONSGML v1.0//EN
CALSCALE:GREGORIAN
METHOD:PUBLISH
BEGIN:VEVENT
UID:69ead491544c8
DTSTAMP:20260424T022521Z
DTSTART:20160527
DTEND:20160528
LOCATION:
SUMMARY:Apresentação de Contas consolidadas referentes ao 1º Trimestre de 2016
DESCRIPTION:Apresentação de Contas consolidadas referentes ao 1º Trimest
 re de 2016\nhttps://www.teixeiraduarte.pt/events/apresentacao-de-contas-con
 solidadas-referentes-ao-1o-trimestre-de-2016/
URL:https://www.teixeiraduarte.pt/events/apresentacao-de-contas-consolidadas-referentes-ao-1o-trimestre-de-2016/
END:VEVENT
END:VCALENDAR