BEGIN:VCALENDAR
VERSION:2.0
PRODID:-//eventon.com NONSGML v1.0//EN
CALSCALE:GREGORIAN
METHOD:PUBLISH
BEGIN:VEVENT
UID:69ead521dbdc6
DTSTAMP:20260424T022745Z
DTSTART:20160528
DTEND:20160529
LOCATION:
SUMMARY:Assembleia Geral da “Teixeira Duarte\,  S.A.”
DESCRIPTION:Assembleia Geral da “Teixeira Duarte\,  S.A.”\nhttps://www.
 teixeiraduarte.pt/events/assembleia-geral-da-teixeira-duarte-s-a-2/
URL:https://www.teixeiraduarte.pt/events/assembleia-geral-da-teixeira-duarte-s-a-2/
END:VEVENT
END:VCALENDAR