BEGIN:VCALENDAR
VERSION:2.0
PRODID:-//eventon.com NONSGML v1.0//EN
CALSCALE:GREGORIAN
METHOD:PUBLISH
BEGIN:VEVENT
UID:69eac0d82b1fc
DTSTAMP:20260424T010112Z
DTSTART:20160829
DTEND:20160830
LOCATION:
SUMMARY:Apresentação de Contas consolidadas referentes ao 1º Semestre de 2016
DESCRIPTION:Apresentação de Contas consolidadas referentes ao 1º Semestr
 e de 2016\nhttps://www.teixeiraduarte.pt/events/apresentacao-de-contas-cons
 olidadas-referentes-ao-1o-semestre-de-2016/
URL:https://www.teixeiraduarte.pt/events/apresentacao-de-contas-consolidadas-referentes-ao-1o-semestre-de-2016/
END:VEVENT
END:VCALENDAR