BEGIN:VCALENDAR
VERSION:2.0
PRODID:-//eventon.com NONSGML v1.0//EN
CALSCALE:GREGORIAN
METHOD:PUBLISH
BEGIN:VEVENT
UID:69ead472797c2
DTSTAMP:20260424T022450Z
DTSTART:20161128
DTEND:20161129
LOCATION:
SUMMARY:Apresentação de Contas consolidadas referentes ao 3º Trimestre de 2016
DESCRIPTION:Apresentação de Contas consolidadas referentes ao 3º Trimest
 re de 2016\nhttps://www.teixeiraduarte.pt/events/apresentacao-de-contas-con
 solidadas-referentes-ao-3o-trimestre-de-2016/
URL:https://www.teixeiraduarte.pt/events/apresentacao-de-contas-consolidadas-referentes-ao-3o-trimestre-de-2016/
END:VEVENT
END:VCALENDAR