BEGIN:VCALENDAR
VERSION:2.0
PRODID:-//eventon.com NONSGML v1.0//EN
CALSCALE:GREGORIAN
METHOD:PUBLISH
BEGIN:VEVENT
UID:69ead4fddb5bb
DTSTAMP:20260424T022709Z
DTSTART:20170427
DTEND:20170428
LOCATION:
SUMMARY:Relatório e Contas relativo ao exercício de 2016\,  a aprovar em Assembleia Geral de 27 de maio de 2017
DESCRIPTION:Relatório e Contas relativo ao exercício de 2016\,  a aprovar
  em Assembleia Geral de 27 de maio de 2017\nhttps://www.teixeiraduarte.pt/e
 vents/relatorio-e-contas-relativo-ao-exercicio-de-2016-a-aprovar-em-assembl
 eia-geral-de-27-de-maio-de-2017/
URL:https://www.teixeiraduarte.pt/events/relatorio-e-contas-relativo-ao-exercicio-de-2016-a-aprovar-em-assembleia-geral-de-27-de-maio-de-2017/
END:VEVENT
END:VCALENDAR