BEGIN:VCALENDAR
VERSION:2.0
PRODID:-//eventon.com NONSGML v1.0//EN
CALSCALE:GREGORIAN
METHOD:PUBLISH
BEGIN:VEVENT
UID:69ead3f4b5392
DTSTAMP:20260424T022244Z
DTSTART:20170530
DTEND:20170531
LOCATION:
SUMMARY:Apresentação de Contas consolidadas referentes ao 1º Trimestre de 2017
DESCRIPTION:Apresentação de Contas consolidadas referentes ao 1º Trimest
 re de 2017\nhttps://www.teixeiraduarte.pt/events/apresentacao-de-contas-con
 solidadas-referentes-ao-1o-trimestre-de-2017/
URL:https://www.teixeiraduarte.pt/events/apresentacao-de-contas-consolidadas-referentes-ao-1o-trimestre-de-2017/
END:VEVENT
END:VCALENDAR