BEGIN:VCALENDAR
VERSION:2.0
PRODID:-//eventon.com NONSGML v1.0//EN
CALSCALE:GREGORIAN
METHOD:PUBLISH
BEGIN:VEVENT
UID:69ead44bedd48
DTSTAMP:20260424T022411Z
DTSTART:20170829
DTEND:20170830
LOCATION:
SUMMARY:Apresentação de Contas consolidadas referentes ao 1º Semestre de 2017
DESCRIPTION:Apresentação de Contas consolidadas referentes ao 1º Semestr
 e de 2017\nhttps://www.teixeiraduarte.pt/events/apresentacao-de-contas-cons
 olidadas-referentes-ao-1o-semestre-de-2017/
URL:https://www.teixeiraduarte.pt/events/apresentacao-de-contas-consolidadas-referentes-ao-1o-semestre-de-2017/
END:VEVENT
END:VCALENDAR