BEGIN:VCALENDAR
VERSION:2.0
PRODID:-//eventon.com NONSGML v1.0//EN
CALSCALE:GREGORIAN
METHOD:PUBLISH
BEGIN:VEVENT
UID:69eac0f391ff5
DTSTAMP:20260424T010139Z
DTSTART:20171130
DTEND:20171201
LOCATION:
SUMMARY:Apresentação de Contas consolidadas referentes ao 3º Trimestre de 2017
DESCRIPTION:Apresentação de Contas consolidadas referentes ao 3º Trimest
 re de 2017\nhttps://www.teixeiraduarte.pt/events/apresentacao-de-contas-con
 solidadas-referentes-ao-3o-trimestre-de-2017/
URL:https://www.teixeiraduarte.pt/events/apresentacao-de-contas-consolidadas-referentes-ao-3o-trimestre-de-2017/
END:VEVENT
END:VCALENDAR