BEGIN:VCALENDAR
VERSION:2.0
PRODID:-//eventon.com NONSGML v1.0//EN
CALSCALE:GREGORIAN
METHOD:PUBLISH
BEGIN:VEVENT
UID:69eac0f61c3cd
DTSTAMP:20260424T010142Z
DTSTART:20180831
DTEND:20180901
LOCATION:
SUMMARY:Apresentação de Contas consolidadas referentes ao 1º Semestre de 2018
DESCRIPTION:Apresentação de Contas consolidadas referentes ao 1º Semestr
 e de 2018\nhttps://www.teixeiraduarte.pt/events/apresentacao-de-contas-cons
 olidadas-referentes-ao-1o-semestre-de-2018/
URL:https://www.teixeiraduarte.pt/events/apresentacao-de-contas-consolidadas-referentes-ao-1o-semestre-de-2018/
END:VEVENT
END:VCALENDAR