BEGIN:VCALENDAR
VERSION:2.0
PRODID:-//eventon.com NONSGML v1.0//EN
CALSCALE:GREGORIAN
METHOD:PUBLISH
BEGIN:VEVENT
UID:69ead4774e1c1
DTSTAMP:20260424T022455Z
DTSTART:20181130
DTEND:20181201
LOCATION:
SUMMARY:Apresentação de Contas consolidadas referentes ao 3º Trimestre de 2018
DESCRIPTION:Apresentação de Contas consolidadas referentes ao 3º Trimest
 re de 2018\nhttps://www.teixeiraduarte.pt/events/apresentacao-de-contas-con
 solidadas-referentes-ao-3o-trimestre-de-2018/
URL:https://www.teixeiraduarte.pt/events/apresentacao-de-contas-consolidadas-referentes-ao-3o-trimestre-de-2018/
END:VEVENT
END:VCALENDAR