BEGIN:VCALENDAR
VERSION:2.0
PRODID:-//eventon.com NONSGML v1.0//EN
CALSCALE:GREGORIAN
METHOD:PUBLISH
BEGIN:VEVENT
UID:69ead3ffc1cdb
DTSTAMP:20260424T022255Z
DTSTART:20190429
DTEND:20190430
LOCATION:
SUMMARY:Relatório e Contas relativo ao exercício de 2018\,  a aprovar em Assembleia Geral.
DESCRIPTION:Relatório e Contas relativo ao exercício de 2018\,  a aprovar
  em Assembleia Geral.\nhttps://www.teixeiraduarte.pt/events/relatorio-e-con
 tas-relativo-ao-exercicio-de-2018-a-aprovar-em-assembleia-geral/
URL:https://www.teixeiraduarte.pt/events/relatorio-e-contas-relativo-ao-exercicio-de-2018-a-aprovar-em-assembleia-geral/
END:VEVENT
END:VCALENDAR